BEGIN:VCALENDAR
VERSION:2.0
PRODID:-//Plone.org//NONSGML plone.app.event//EN
X-WR-TIMEZONE:US/Eastern
BEGIN:VEVENT
SUMMARY:Youth Department Open House
DTSTART;TZID=US/Eastern:20250517T140000
DTEND;TZID=US/Eastern:20250517T160000
DTSTAMP:20260422T104504Z
UID:33552762652448f99355ba38e5b5b947@saas_stack_varnish:6080
CONTACT:(313)343-2575
CREATED:20250424T163044Z
DESCRIPTION:Our lower level Youth Department has been back open for a year
 !
LAST-MODIFIED:20250424T163131Z
LOCATION:Harper Woods Public Library
URL:https://www.harperwoodslibrary.org/library-calendar/youth-department-o
 pen-house
END:VEVENT
BEGIN:VTIMEZONE
TZID:US/Eastern
X-LIC-LOCATION:US/Eastern
BEGIN:DAYLIGHT
DTSTART:20250309T030000
TZNAME:EDT
TZOFFSETFROM:-0500
TZOFFSETTO:-0400
END:DAYLIGHT
END:VTIMEZONE
END:VCALENDAR
