BEGIN:VCALENDAR
VERSION:2.0
PRODID:-//Plone.org//NONSGML plone.app.event//EN
X-WR-TIMEZONE:US/Eastern
BEGIN:VEVENT
SUMMARY:Teen Study Room
DTSTART;TZID=US/Eastern:20250611T123000
DTEND;TZID=US/Eastern:20250611T183000
DTSTAMP:20260422T104016Z
UID:3da4d14c2ee8420698391b3f7f193e2a@saas_stack_varnish:6080
CREATED:20250527T225136Z
DESCRIPTION:During finals week the Library's Programming Room will be set 
 up to accommodate studying.
LAST-MODIFIED:20250527T225232Z
LOCATION:Harper Woods Public Library
URL:https://www.harperwoodslibrary.org/library-calendar/teen-study-room-1
END:VEVENT
BEGIN:VTIMEZONE
TZID:US/Eastern
X-LIC-LOCATION:US/Eastern
BEGIN:DAYLIGHT
DTSTART:20250309T030000
TZNAME:EDT
TZOFFSETFROM:-0500
TZOFFSETTO:-0400
END:DAYLIGHT
END:VTIMEZONE
END:VCALENDAR
