BEGIN:VCALENDAR
VERSION:2.0
PRODID:-//Plone.org//NONSGML plone.app.event//EN
X-WR-TIMEZONE:US/Eastern
BEGIN:VEVENT
SUMMARY:Teen Movie Club: The Iron Giant
DTSTART;TZID=US/Eastern:20250617T170000
DTEND;TZID=US/Eastern:20250617T184500
DTSTAMP:20260424T082041Z
UID:28fcb8ad45eb417bb41f7cd455b23641@saas_stack_varnish:6080
CONTACT:(313)343-2575\, guymank@libcoop.net
CREATED:20250424T162105Z
DESCRIPTION:Join us for snacks\, movie and a post movie discussion!
LAST-MODIFIED:20250424T162240Z
LOCATION:Harper Woods Public Library
URL:https://www.harperwoodslibrary.org/library-calendar/teen-movie-club-th
 e-iron-giant
END:VEVENT
BEGIN:VTIMEZONE
TZID:US/Eastern
X-LIC-LOCATION:US/Eastern
BEGIN:DAYLIGHT
DTSTART:20250309T030000
TZNAME:EDT
TZOFFSETFROM:-0500
TZOFFSETTO:-0400
END:DAYLIGHT
END:VTIMEZONE
END:VCALENDAR
