BEGIN:VCALENDAR
VERSION:2.0
PRODID:-//Plone.org//NONSGML plone.app.event//EN
X-WR-TIMEZONE:US/Eastern
BEGIN:VEVENT
SUMMARY:Teen Movie Club - Ponyo
DTSTART;TZID=US/Eastern:20250318T170000
DTEND;TZID=US/Eastern:20250318T184500
DTSTAMP:20260422T102028Z
UID:37b15c9ca0044d78ad4f72381b06a479@saas_stack_varnish:6080
CONTACT:Librarian Mrs. Guyman\, 313-343-2575\, guymank@libcoop.net
CREATED:20250128T203614Z
DESCRIPTION:Join us for pizza and a movie with a short discussion of the m
 ovie afterwards! This month we'll be watching Ponyo!\n\nBest for ages 13-1
 8.
LAST-MODIFIED:20250128T203920Z
LOCATION:Harper Woods Public Library
URL:https://www.harperwoodslibrary.org/library-calendar/teen-movie-club-po
 nyo
END:VEVENT
BEGIN:VTIMEZONE
TZID:US/Eastern
X-LIC-LOCATION:US/Eastern
BEGIN:DAYLIGHT
DTSTART:20250309T030000
TZNAME:EDT
TZOFFSETFROM:-0500
TZOFFSETTO:-0400
END:DAYLIGHT
END:VTIMEZONE
END:VCALENDAR
