BEGIN:VCALENDAR
VERSION:2.0
PRODID:-//Plone.org//NONSGML plone.app.event//EN
X-WR-TIMEZONE:US/Eastern
BEGIN:VEVENT
SUMMARY:Nintendo Switch Game Night
DTSTART;TZID=US/Eastern:20260428T160000
DTEND;TZID=US/Eastern:20260428T180000
DTSTAMP:20260424T050726Z
UID:e35e79b4edad4942846e57ff4c0bdf12@saas_stack_varnish:6080
RRULE:FREQ=MONTHLY;UNTIL=20260616T000000;BYDAY=-1TU
CREATED:20251217T165504Z
LAST-MODIFIED:20260306T164208Z
LOCATION:Harper Woods Public Library
URL:https://www.harperwoodslibrary.org/library-calendar/nintendo-switch-ga
 me-night
END:VEVENT
BEGIN:VTIMEZONE
TZID:US/Eastern
X-LIC-LOCATION:US/Eastern
BEGIN:DAYLIGHT
DTSTART:20260308T030000
TZNAME:EDT
TZOFFSETFROM:-0500
TZOFFSETTO:-0400
END:DAYLIGHT
END:VTIMEZONE
END:VCALENDAR
