BEGIN:VCALENDAR
VERSION:2.0
PRODID:-//Plone.org//NONSGML plone.app.event//EN
X-WR-TIMEZONE:US/Eastern
BEGIN:VEVENT
SUMMARY:Local Speaker Series: Vernor's\, the Story of Detroit's Favorite G
 inger Ale
DTSTART;TZID=US/Eastern:20251105T173000
DTEND;TZID=US/Eastern:20251105T183000
DTSTAMP:20260424T161859Z
UID:8cf2775e14294dc6becef6b537919a0f@saas_stack_varnish:6080
CREATED:20250826T163535Z
DESCRIPTION:Avid Vernors collector Keith Wunderlich will talk about the hi
 story of the “deliciously different” beverage. While it is available n
 ationwide\, Vernors is especially popular in the Midwest\, particularly Mi
 chigan. The history of Vernors dates back to its creation in Detroit by ph
 armacist James Vernor around 1866\, thus making it America’s oldest surv
 iving soft drink. Vernors is enjoyed on its own\, but also used in the cla
 ssic Detroit Boston Cooler - a float with vanilla ice cream which will be 
 served after the event!
LAST-MODIFIED:20250904T002738Z
LOCATION:Harper Woods Public Library
URL:https://www.harperwoodslibrary.org/library-calendar/local-speaker-seri
 es-vernons-the-story-of-detroits-favorite-ginger-ale
END:VEVENT
BEGIN:VTIMEZONE
TZID:US/Eastern
X-LIC-LOCATION:US/Eastern
BEGIN:STANDARD
DTSTART:20251102T010000
TZNAME:EST
TZOFFSETFROM:-0400
TZOFFSETTO:-0500
END:STANDARD
END:VTIMEZONE
END:VCALENDAR
