BEGIN:VCALENDAR
VERSION:2.0
PRODID:-//Plone.org//NONSGML plone.app.event//EN
X-WR-TIMEZONE:US/Eastern
BEGIN:VEVENT
SUMMARY:Library Board Meeting
DTSTART;TZID=US/Eastern:20261217T190000
DTEND;TZID=US/Eastern:20261217T200000
DTSTAMP:20260425T165635Z
UID:4b973cd91c614f3a93af8642d0b4908a@saas_stack_varnish:6080
CREATED:20260410T152534Z
LAST-MODIFIED:20260410T152543Z
LOCATION:Harper Woods Public Library
URL:https://www.harperwoodslibrary.org/library-calendar/library-board-meet
 ing-7
END:VEVENT
BEGIN:VTIMEZONE
TZID:US/Eastern
X-LIC-LOCATION:US/Eastern
BEGIN:STANDARD
DTSTART:20261101T010000
TZNAME:EST
TZOFFSETFROM:-0400
TZOFFSETTO:-0500
END:STANDARD
END:VTIMEZONE
END:VCALENDAR
