BEGIN:VCALENDAR
VERSION:2.0
PRODID:-//Plone.org//NONSGML plone.app.event//EN
X-WR-TIMEZONE:US/Eastern
BEGIN:VEVENT
SUMMARY:Library Board Meeting
DTSTART;TZID=US/Eastern:20261015T190000
DTEND;TZID=US/Eastern:20261015T200000
DTSTAMP:20260425T165635Z
UID:5a701fa64812479db82e0e691943dbab@saas_stack_varnish:6080
CREATED:20260410T152353Z
LAST-MODIFIED:20260410T152402Z
LOCATION:Harper Woods Public Library
URL:https://www.harperwoodslibrary.org/library-calendar/library-board-meet
 ing-5
END:VEVENT
BEGIN:VTIMEZONE
TZID:US/Eastern
X-LIC-LOCATION:US/Eastern
BEGIN:DAYLIGHT
DTSTART:20260308T030000
TZNAME:EDT
TZOFFSETFROM:-0500
TZOFFSETTO:-0400
END:DAYLIGHT
END:VTIMEZONE
END:VCALENDAR
