BEGIN:VCALENDAR
VERSION:2.0
PRODID:-//Plone.org//NONSGML plone.app.event//EN
X-WR-TIMEZONE:US/Eastern
BEGIN:VEVENT
SUMMARY:Family Game Night
DTSTART;TZID=US/Eastern:20250225T170000
DTEND;TZID=US/Eastern:20250225T183000
DTSTAMP:20260423T144927Z
UID:5df6ec384bff4bca9c6e1674a591bc85@saas_stack_varnish:6080
CREATED:20250123T214918Z
DESCRIPTION:Bring the whole family to the library and play any from our fu
 n selection of games.
LAST-MODIFIED:20250123T215118Z
LOCATION:Harper Woods Library
URL:https://www.harperwoodslibrary.org/library-calendar/family-game-night-
 2
END:VEVENT
BEGIN:VTIMEZONE
TZID:US/Eastern
X-LIC-LOCATION:US/Eastern
BEGIN:STANDARD
DTSTART:20241103T010000
TZNAME:EST
TZOFFSETFROM:-0400
TZOFFSETTO:-0500
END:STANDARD
END:VTIMEZONE
END:VCALENDAR
