BEGIN:VCALENDAR
VERSION:2.0
PRODID:-//Plone.org//NONSGML plone.app.event//EN
X-WR-TIMEZONE:US/Eastern
BEGIN:VEVENT
SUMMARY:Family Game Night
DTSTART;TZID=US/Eastern:20250128T170000
DTEND;TZID=US/Eastern:20250128T183000
DTSTAMP:20260419T153422Z
UID:c4d8ad7b4360470b9ecf0ef1c3352855@saas_stack_varnish:6080
RRULE:FREQ=MONTHLY;COUNT=7;BYMONTHDAY=25
EXDATE;TZID=US/Eastern:20250225T000000,20250425T000000,20250525T000000,202
 50625T000000,20250725T000000,20250825T000000
CREATED:20241219T191825Z
DESCRIPTION:Bring the whole family to the library and play our fun selecti
 on of games!
LAST-MODIFIED:20250128T203216Z
LOCATION:Harper Woods Library
URL:https://www.harperwoodslibrary.org/library-calendar/family-game-night-
 1
END:VEVENT
BEGIN:VTIMEZONE
TZID:US/Eastern
X-LIC-LOCATION:US/Eastern
BEGIN:STANDARD
DTSTART:20241103T010000
TZNAME:EST
TZOFFSETFROM:-0400
TZOFFSETTO:-0500
END:STANDARD
END:VTIMEZONE
END:VCALENDAR
