BEGIN:VCALENDAR
VERSION:2.0
PRODID:-//Plone.org//NONSGML plone.app.event//EN
X-WR-TIMEZONE:US/Eastern
BEGIN:VEVENT
SUMMARY:Exam Week Study Room
DTSTART;TZID=US/Eastern:20250121T123000
DTEND;TZID=US/Eastern:20250121T183000
DTSTAMP:20260424T034254Z
UID:9b187bbaacd7473384e7737274666af3@saas_stack_varnish:6080
CREATED:20241219T170116Z
DESCRIPTION:The Once Upon a Time Room will become a quiet study room for M
 iddle and High School students. Exams can be stressful and we as your loca
 l library want to do all we can to make studying easier for students in ou
 r community. We will provide snacks and some fun brain-break activities.
LAST-MODIFIED:20241219T170513Z
LOCATION:Harper Woods Library
URL:https://www.harperwoodslibrary.org/library-calendar/exam-week-study-ro
 om
END:VEVENT
BEGIN:VTIMEZONE
TZID:US/Eastern
X-LIC-LOCATION:US/Eastern
BEGIN:STANDARD
DTSTART:20241103T010000
TZNAME:EST
TZOFFSETFROM:-0400
TZOFFSETTO:-0500
END:STANDARD
END:VTIMEZONE
END:VCALENDAR
