BEGIN:VCALENDAR
VERSION:2.0
PRODID:-//Plone.org//NONSGML plone.app.event//EN
X-WR-TIMEZONE:US/Eastern
BEGIN:VEVENT
SUMMARY:Craft Night
DTSTART;TZID=US/Eastern:20260210T170000
DTEND;TZID=US/Eastern:20260210T180000
DTSTAMP:20260422T085152Z
UID:91fad654ceca49d9ba23f2fe108df2e3@saas_stack_varnish:6080
CREATED:20260109T164339Z
LAST-MODIFIED:20260109T164344Z
LOCATION:Harper Woods Public Library
URL:https://www.harperwoodslibrary.org/library-calendar/craft-night-4
END:VEVENT
BEGIN:VTIMEZONE
TZID:US/Eastern
X-LIC-LOCATION:US/Eastern
BEGIN:STANDARD
DTSTART:20251102T010000
TZNAME:EST
TZOFFSETFROM:-0400
TZOFFSETTO:-0500
END:STANDARD
END:VTIMEZONE
END:VCALENDAR
