BEGIN:VCALENDAR
VERSION:2.0
PRODID:-//Plone.org//NONSGML plone.app.event//EN
X-WR-TIMEZONE:US/Eastern
BEGIN:VEVENT
SUMMARY:Community Office Hours with Senator Hertel's Team
DTSTART;TZID=US/Eastern:20260714T130000
DTEND;TZID=US/Eastern:20260714T150000
DTSTAMP:20260425T165758Z
UID:ab6a010b536e4716969a018cde040672@saas_stack_varnish:6080
CREATED:20260417T151243Z
LAST-MODIFIED:20260417T151254Z
LOCATION:Harper Woods Public Library
URL:https://www.harperwoodslibrary.org/library-calendar/community-office-h
 ours-with-senator-hertels-team/2026-07-14
END:VEVENT
BEGIN:VTIMEZONE
TZID:US/Eastern
X-LIC-LOCATION:US/Eastern
BEGIN:DAYLIGHT
DTSTART:20260308T030000
TZNAME:EDT
TZOFFSETFROM:-0500
TZOFFSETTO:-0400
END:DAYLIGHT
END:VTIMEZONE
END:VCALENDAR
