BEGIN:VCALENDAR
VERSION:2.0
PRODID:-//Plone.org//NONSGML plone.app.event//EN
X-WR-TIMEZONE:US/Eastern
BEGIN:VEVENT
SUMMARY:Closing Early at 5:00pm for Thanksgiving
DTSTART;TZID=US/Eastern:20261125T170000
DTEND;TZID=US/Eastern:20261125T190000
DTSTAMP:20260425T170309Z
UID:aa973cdcf13540d8902eb9e222fb54d0@saas_stack_varnish:6080
CREATED:20251205T165825Z
LAST-MODIFIED:20251212T165959Z
URL:https://www.harperwoodslibrary.org/library-calendar/closing-early-for-
 thanksgiving-1
END:VEVENT
BEGIN:VTIMEZONE
TZID:US/Eastern
X-LIC-LOCATION:US/Eastern
BEGIN:STANDARD
DTSTART:20261101T010000
TZNAME:EST
TZOFFSETFROM:-0400
TZOFFSETTO:-0500
END:STANDARD
END:VTIMEZONE
END:VCALENDAR
