BEGIN:VCALENDAR
VERSION:2.0
PRODID:-//Plone.org//NONSGML plone.app.event//EN
X-WR-TIMEZONE:US/Eastern
BEGIN:VEVENT
SUMMARY:Closed for Veterans Day
DTSTART;VALUE=DATE:20261111
DTEND;VALUE=DATE:20261112
DTSTAMP:20260425T170233Z
UID:3790bdfc7cca4d66bf442d2e5917d099@saas_stack_varnish:6080
CREATED:20251205T165651Z
LAST-MODIFIED:20251212T165829Z
URL:https://www.harperwoodslibrary.org/library-calendar/closed-for-veteran
 s-day-2
END:VEVENT
END:VCALENDAR
