BEGIN:VCALENDAR
VERSION:2.0
PRODID:-//Plone.org//NONSGML plone.app.event//EN
X-WR-TIMEZONE:US/Eastern
BEGIN:VEVENT
SUMMARY:Closed for Thanksgiving
DTSTART;VALUE=DATE:20261126
DTEND;VALUE=DATE:20261129
DTSTAMP:20260425T170213Z
UID:a8d2996fa297485687dd6a03a625d729@saas_stack_varnish:6080
CREATED:20251205T165921Z
LAST-MODIFIED:20251212T170030Z
URL:https://www.harperwoodslibrary.org/library-calendar/closed-for-thanksg
 iving-4
END:VEVENT
END:VCALENDAR
