BEGIN:VCALENDAR
VERSION:2.0
PRODID:-//Plone.org//NONSGML plone.app.event//EN
X-WR-TIMEZONE:US/Eastern
BEGIN:VEVENT
SUMMARY:Closed for New Year's
DTSTART;VALUE=DATE:20261231
DTEND;VALUE=DATE:20270103
DTSTAMP:20260425T170141Z
UID:42949d764d0741d990d5f20ede2f6d6d@saas_stack_varnish:6080
CREATED:20251205T170057Z
LAST-MODIFIED:20251212T170122Z
URL:https://www.harperwoodslibrary.org/library-calendar/closed-for-new-yea
 rs-1
END:VEVENT
END:VCALENDAR
