BEGIN:VCALENDAR
VERSION:2.0
PRODID:-//Plone.org//NONSGML plone.app.event//EN
X-WR-TIMEZONE:US/Eastern
BEGIN:VEVENT
SUMMARY:Closed for Labor Day
DTSTART;VALUE=DATE:20260907
DTEND;VALUE=DATE:20260908
DTSTAMP:20260425T170110Z
UID:a9bdc2c223ae4d94ae92906acdb77470@saas_stack_varnish:6080
CREATED:20251205T165604Z
LAST-MODIFIED:20251212T165754Z
URL:https://www.harperwoodslibrary.org/library-calendar/closed-for-labor-d
 ay-1
END:VEVENT
END:VCALENDAR
