BEGIN:VCALENDAR
VERSION:2.0
PRODID:-//Plone.org//NONSGML plone.app.event//EN
X-WR-TIMEZONE:US/Eastern
BEGIN:VEVENT
SUMMARY:Closed for Juneteenth
DTSTART;VALUE=DATE:20260619
DTEND;VALUE=DATE:20260620
DTSTAMP:20260425T170040Z
UID:1352b2f8afaa4f4f9ff1fcf63dc245df@saas_stack_varnish:6080
CREATED:20251205T165410Z
LAST-MODIFIED:20251212T165700Z
URL:https://www.harperwoodslibrary.org/library-calendar/closed-for-junetee
 nth-1
END:VEVENT
END:VCALENDAR
