BEGIN:VCALENDAR
VERSION:2.0
PRODID:-//Plone.org//NONSGML plone.app.event//EN
X-WR-TIMEZONE:US/Eastern
BEGIN:VEVENT
SUMMARY:Closed for Independence Day
DTSTART;VALUE=DATE:20260703
DTEND;VALUE=DATE:20260705
DTSTAMP:20260425T170116Z
UID:435e3bc6ed2046f7ae205ad5890f41c3@saas_stack_varnish:6080
CREATED:20251205T165518Z
LAST-MODIFIED:20251212T165723Z
URL:https://www.harperwoodslibrary.org/library-calendar/closed-for-indepen
 dence-day-1
END:VEVENT
END:VCALENDAR
