BEGIN:VCALENDAR
VERSION:2.0
PRODID:-//Plone.org//NONSGML plone.app.event//EN
X-WR-TIMEZONE:US/Eastern
BEGIN:VEVENT
SUMMARY:Closed for Christmas
DTSTART;VALUE=DATE:20261224
DTEND;VALUE=DATE:20261227
DTSTAMP:20260425T165947Z
UID:bd6b090525d240eb9a8099c1ace199e1@saas_stack_varnish:6080
CREATED:20251205T170006Z
LAST-MODIFIED:20251212T170057Z
URL:https://www.harperwoodslibrary.org/library-calendar/closed-for-christm
 as-2
END:VEVENT
END:VCALENDAR
