BEGIN:VCALENDAR
VERSION:2.0
PRODID:-//Plone.org//NONSGML plone.app.event//EN
X-WR-TIMEZONE:US/Eastern
BEGIN:VEVENT
SUMMARY:Amazing Animals from GP Zoology
DTSTART;TZID=US/Eastern:20260624T173000
DTEND;TZID=US/Eastern:20260624T183000
DTSTAMP:20260425T170355Z
UID:497643c078b646d2bc17b4da619a237f@saas_stack_varnish:6080
CREATED:20260306T163118Z
LAST-MODIFIED:20260306T163122Z
LOCATION:Harper Woods Public Library
URL:https://www.harperwoodslibrary.org/library-calendar/amazing-animals-fr
 om-gp-zoology
END:VEVENT
BEGIN:VTIMEZONE
TZID:US/Eastern
X-LIC-LOCATION:US/Eastern
BEGIN:DAYLIGHT
DTSTART:20260308T030000
TZNAME:EDT
TZOFFSETFROM:-0500
TZOFFSETTO:-0400
END:DAYLIGHT
END:VTIMEZONE
END:VCALENDAR
